Workbook
Name RESEAU: 'CHAMPS DATA'!$D$19:$D$27

Sheet CHAMPS RELAIS
B8: CHOIX TC
B10: TC | C10: 1 | D10: 2 | E10: 3 | F10: 4 | G10: 5 | H10: 6 | I10: 7 | J10: 8 | K10: 9 | L10: 10 | M10: 11 | N10: 12 | O10: 13 | P10: 14 | Q10: 15 | R10: 16 | S10: 17
A11: 1 | B11: WIC1-W2 | C11: 16 | D11: 18 | E11: 20 | F11: 22 | G11: 24 | H11: 26 | I11: 28 | J11: 30 | K11: 32 | L11: 34 | M11: 36 | N11: 40 | O11: 44 | P11: 48 | Q11: 52 | R11: 56 | S11: =CONCATENATE(C11," A - ",R11," A") -> 16 A - 56 A
A12: 2 | B12: WIC1-W3 | C12: 32 | D12: 36 | E12: 40 | F12: 44 | G12: 48 | H12: 52 | I12: 56 | J12: 60 | K12: 64 | L12: 68 | M12: 72 | N12: 80 | O12: 88 | P12: 96 | Q12: 104 | R12: 112 | S12: =CONCATENATE(C12," A - ",R12," A") -> 32 A - 112 A
A13: 3 | B13: WIC1-W4 | C13: 64 | D13: 72 | E13: 80 | F13: 88 | G13: 96 | H13: 104 | I13: 112 | J13: 120 | K13: 128 | L13: 136 | M13: 144 | N13: 160 | O13: 176 | P13: 192 | Q13: 208 | R13: 224 | S13: =CONCATENATE(C13," A - ",R13," A") -> 64 A - 224 A
A14: 4 | B14: WIC1-W5 | C14: 128 | D14: 144 | E14: 160 | F14: 176 | G14: 192 | H14: 208 | I14: 224 | J14: 240 | K14: 256 | L14: 272 | M14: 288 | N14: 320 | O14: 352 | P14: 384 | Q14: 416 | R14: 448 | S14: =CONCATENATE(C14," A - ",R14," A") -> 128 A - 448 A
B16: 2 | C16: =VLOOKUP($B$16,$A$11:$R$14,3,FALSE) -> 32 | D16: =VLOOKUP($B$16,$A$11:$R$14,4,FALSE) -> 36 | E16: =VLOOKUP($B$16,$A$11:$R$14,5,FALSE) -> 40 | F16: =VLOOKUP($B$16,$A$11:$R$14,6,FALSE) -> 44 | G16: =VLOOKUP($B$16,$A$11:$R$14,7,FALSE) -> 48 | H16: =VLOOKUP($B$16,$A$11:$R$14,8,FALSE) -> 52 | I16: =VLOOKUP($B$16,$A$11:$R$14,9,FALSE) -> 56 | J16: =VLOOKUP($B$16,$A$11:$R$14,10,FALSE) -> 60 | K16: =VLOOKUP($B$16,$A$11:$R$14,11,FALSE) -> 64 | L16: =VLOOKUP($B$16,$A$11:$R$14,12,FALSE) -> 68 | M16: =VLOOKUP($B$16,$A$11:$R$14,13,FALSE) -> 72 | N16: =VLOOKUP($B$16,$A$11:$R$14,14,FALSE) -> 80 | O16: =VLOOKUP($B$16,$A$11:$R$14,15,FALSE) -> 88 | P16: =VLOOKUP($B$16,$A$11:$R$14,16,FALSE) -> 96 | Q16: =VLOOKUP($B$16,$A$11:$R$14,17,FALSE) -> 104 | R16: =VLOOKUP($B$16,$A$11:$R$14,18,FALSE) -> 112 | S16: =VLOOKUP($B$16,$A$11:$S$14,19,FALSE) -> 32 A - 112 A
B20: CHOIX IR
B22: Ir | C22: 1 | D22: 2 | E22: 3 | F22: 4
A23: 1 | B23: =C16 -> 32 | C23: OFF | D23: OFF | E23: OFF | F23: OFF | G23: =B23 -> 32
A24: 2 | B24: =D16 -> 36 | C24: ON | D24: OFF | E24: OFF | F24: OFF | G24: =B24 -> 36
A25: 3 | B25: =E16 -> 40 | C25: OFF | D25: ON | E25: OFF | F25: OFF | G25: =B25 -> 40
A26: 4 | B26: =F16 -> 44 | C26: ON | D26: ON | E26: OFF | F26: OFF | G26: =B26 -> 44
A27: 5 | B27: =G16 -> 48 | C27: OFF | D27: OFF | E27: ON | F27: OFF | G27: =B27 -> 48
A28: 6 | B28: =H16 -> 52 | C28: ON | D28: OFF | E28: ON | F28: OFF | G28: =B28 -> 52
A29: 7 | B29: =I16 -> 56 | C29: OFF | D29: ON | E29: ON | F29: OFF | G29: =B29 -> 56
A30: 8 | B30: =J16 -> 60 | C30: ON | D30: ON | E30: ON | F30: OFF | G30: =B30 -> 60
A31: 9 | B31: =K16 -> 64 | C31: OFF | D31: OFF | E31: OFF | F31: ON | G31: =B31 -> 64
A32: 10 | B32: =L16 -> 68 | C32: ON | D32: OFF | E32: OFF | F32: ON | G32: =B32 -> 68
A33: 11 | B33: =M16 -> 72 | C33: OFF | D33: ON | E33: OFF | F33: ON | G33: =B33 -> 72
A34: 12 | B34: =N16 -> 80 | C34: ON | D34: ON | E34: OFF | F34: ON | G34: =B34 -> 80
A35: 13 | B35: =O16 -> 88 | C35: OFF | D35: OFF | E35: ON | F35: ON | G35: =B35 -> 88
A36: 14 | B36: =P16 -> 96 | C36: ON | D36: OFF | E36: ON | F36: ON | G36: =B36 -> 96
A37: 15 | B37: =Q16 -> 104 | C37: OFF | D37: ON | E37: ON | F37: ON | G37: =B37 -> 104
A38: 16 | B38: =R16 -> 112 | C38: ON | D38: ON | E38: ON | F38: ON | G38: =B38 -> 112
B40: 7 | C40: =VLOOKUP($B$40,$A$23:$F$38,3,FALSE) -> OFF | D40: =VLOOKUP($B$40,$A$23:$F$38,4,FALSE) -> ON | E40: =VLOOKUP($B$40,$A$23:$F$38,5,FALSE) -> ON | F40: =VLOOKUP($B$40,$A$23:$F$38,6,FALSE) -> OFF | G40: =VLOOKUP($B$40,$A$23:$G$38,7,FALSE) -> 56
B43: CHOIX COURBE
A45: 1 | B45: Temps Défini | C45: DEF | D45: OFF | E45: OFF | F45: OFF | G45: OFF | H45: 1
A46: 2 | B46: Normal Inverse | C46: N-INV | D46: ON | E46: OFF | F46: OFF | G46: OFF | H46: 2
A47: 3 | B47: Très Inverse | C47: V-INV | D47: OFF | E47: ON | F47: OFF | G47: OFF | H47: 2
A48: 4 | B48: Extrêmement Inverse | C48: E-INV | D48: ON | E48: ON | F48: OFF | G48: OFF | H48: 2
A49: 5 | B49: Long Inverse | C49: LI-INV | D49: OFF | E49: OFF | F49: ON | G49: OFF | H49: 2
A50: 6 | B50: RI - Inverse | C50: RI-INV | D50: ON | E50: OFF | F50: ON | G50: OFF | H50: 2
A51: 7 | B51: Caractéristiques fusible HT | C51: HV-Fuse | D51: OFF | E51: ON | F51: ON | G51: OFF | H51: 2
A52: 8 | B52: Caractéristique fusible gamme complète | C52: FR-Fuse | D52: OFF | E52: ON | F52: ON | G52: ON | H52: 2
B54: 1 | C54: =VLOOKUP($B$54,$A$45:$G$52,3,FALSE) -> DEF | D54: =VLOOKUP($B$54,$A$45:$G$52,4,FALSE) -> OFF | E54: =VLOOKUP($B$54,$A$45:$G$52,5,FALSE) -> OFF | F54: =VLOOKUP($B$54,$A$45:$G$52,6,FALSE) -> OFF | G54: =VLOOKUP($B$54,$A$45:$G$52,7,FALSE) -> OFF | H54: =VLOOKUP($B$54,$A$45:$H$52,8,FALSE) -> 1
B57: COURANT DECLENCHEMENT THERMIQUE I>
A59: 1 | B59: =CONCATENATE(C59," x Is") -> 0,9 x Is | C59: 0.9 | D59: OFF | E59: OFF | F59: OFF | G59: OFF
A60: 2 | B60: =CONCATENATE(C60," x Is") -> 0,95 x Is | C60: 0.95 | D60: ON | E60: OFF | F60: OFF | G60: OFF
A61: 3 | B61: =CONCATENATE(C61," x Is") -> 1 x Is | C61: 1 | D61: OFF | E61: ON | F61: OFF | G61: OFF
A62: 4 | B62: =CONCATENATE(C62," x Is") -> 1,05 x Is | C62: 1.05 | D62: ON | E62: ON | F62: OFF | G62: OFF
A63: 5 | B63: =CONCATENATE(C63," x Is") -> 1,1 x Is | C63: 1.1 | D63: OFF | E63: OFF | F63: ON | G63: OFF
A64: 6 | B64: =CONCATENATE(C64," x Is") -> 1,15 x Is | C64: 1.15 | D64: ON | E64: OFF | F64: ON | G64: OFF
A65: 7 | B65: =CONCATENATE(C65," x Is") -> 1,2 x Is | C65: 1.2 | D65: OFF | E65: ON | F65: ON | G65: OFF
A66: 8 | B66: =CONCATENATE(C66," x Is") -> 1,3 x Is | C66: 1.3 | D66: ON | E66: ON | F66: ON | G66: OFF
A67: 9 | B67: =CONCATENATE(C67," x Is") -> 1,4 x Is | C67: 1.4 | D67: OFF | E67: OFF | F67: OFF | G67: ON
A68: 10 | B68: =CONCATENATE(C68," x Is") -> 1,5 x Is | C68: 1.5 | D68: ON | E68: OFF | F68: OFF | G68: ON
A69: 11 | B69: =CONCATENATE(C69," x Is") -> 1,6 x Is | C69: 1.6 | D69: OFF | E69: ON | F69: OFF | G69: ON
A70: 12 | B70: =CONCATENATE(C70," x Is") -> 1,8 x Is | C70: 1.8 | D70: ON | E70: ON | F70: OFF | G70: ON
... A73: 15 | B73: =CONCATENATE(C73," x Is") -> 2,5 x Is | C73: 2.5 | D73: OFF | E73: ON | F73: ON | G73: ON
A74: 16 | B74: =C74 -> Exit | C74: Exit | D74: ON | E74: ON | F74: ON | G74: ON
B76: 5 | C76: =VLOOKUP($B$76,$A$59:$G$74,3,FALSE) -> 1.1 | D76: =VLOOKUP($B$76,$A$59:$G$74,4,FALSE) -> OFF | E76: =VLOOKUP($B$76,$A$59:$G$74,5,FALSE) -> OFF | F76: =VLOOKUP($B$76,$A$59:$G$74,6,FALSE) -> ON | G76: =VLOOKUP($B$76,$A$59:$G$74,7,FALSE) -> OFF | H76: =C76*$G$40 -> 61.6
B78: TEMPS DECLENCHEMENT THERMIQUE T >
C81: 1 | D81: 2 | E81: 3 | F81: 4 | G81: 5 | H81: 6 | I81: 7 | J81: 8 | K81: 9 | L81: 10 | M81: 11 | N81: 12 | O81: 13 | P81: 14 | Q81: 15 | R81: 16 | S81: 17 | T81: 18 | U81: 19 | V81: 20
A82: 1 | B82: Temps Défini | C82: 0.04 | D82: 0.3 | E82: 0.6 | F82: 1 | G82: 2 | H82: 3 | I82: 4 | J82: 6 | K82: 8 | L82: 10 | M82: 15 | N82: 30 | O82: 60 | P82: 120 | Q82: 210 | R82: 300 | S82: TEMPORISATION DECLENCHEMENT | T82: t > | U82: sec | W82: SEUIL SURCHARGE POUR DEF
A83: 2 | B83: Autre courbe (facteur a) | C83: 0.05 | D83: 0.1 | E83: 0.2 | F83: 0.3 | G83: 0.4 | H83: 0.5 | I83: 0.6 | J83: 0.8 | K83: 1 | L83: 2 | M83: 3 | N83: 4 | O83: 5 | P83: 6 | Q83: 8 | R83: 10 | S83: FACTEUR DE TEMPS | T83: a | V83: EXIT | W83: VALEUR DEMARRAGE POUR INV
B85: =$H$54 -> 1 | C85: =VLOOKUP($B$85,$A$82:$R$83,3,FALSE) -> 0.04 | D85: =VLOOKUP($B$85,$A$82:$R$83,4,FALSE) -> 0.3 | E85: =VLOOKUP($B$85,$A$82:$R$83,5,FALSE) -> 0.6 | F85: =VLOOKUP($B$85,$A$82:$R$83,6,FALSE) -> 1 | G85: =VLOOKUP($B$85,$A$82:$R$83,7,FALSE) -> 2 | H85: =VLOOKUP($B$85,$A$82:$R$83,8,FALSE) -> 3 | I85: =VLOOKUP($B$85,$A$82:$R$83,9,FALSE) -> 4 | J85: =VLOOKUP($B$85,$A$82:$R$83,10,FALSE) -> 6 | K85: =VLOOKUP($B$85,$A$82:$R$83,11,FALSE) -> 8 | L85: =VLOOKUP($B$85,$A$82:$R$83,12,FALSE) -> 10 | M85: =VLOOKUP($B$85,$A$82:$R$83,13,FALSE) -> 15 | N85: =VLOOKUP($B$85,$A$82:$R$83,14,FALSE) -> 30 | O85: =VLOOKUP($B$85,$A$82:$R$83,15,FALSE) -> 60 | P85: =VLOOKUP($B$85,$A$82:$R$83,16,FALSE) -> 120 | Q85: =VLOOKUP($B$85,$A$82:$R$83,17,FALSE) -> 210 | R85: =VLOOKUP($B$85,$A$82:$T$83,18,FALSE) -> 300 | S85: =VLOOKUP($B$85,$A$82:$T$83,19,FALSE) -> TEMPORISATION DECLENCHEMENT | T85: =VLOOKUP($B$85,$A$82:$T$83,20,FALSE) -> t > | U85: =VLOOKUP($B$85,$A$82:$U$83,21,FALSE) -> sec | V85: =VLOOKUP($B$85,$A$82:$V$83,22,FALSE) -> 0 | W85: =VLOOKUP($B$85,$A$82:$W$83,23,FALSE) -> SEUIL SURCHARGE POUR DEF
B87: Temportisation / Facteur de temps | C87: 1 | D87: 2 | E87: 3 | F87: 4 | G87: 5
A88: 1 | B88: =$S$85 -> TEMPORISATION DECLENCHEMENT | C88: =C85 -> 0.04 | D88: OFF | E88: OFF | F88: OFF | G88: OFF
A89: 2 | B89: =$S$85 -> TEMPORISATION DECLENCHEMENT | C89: =D85 -> 0.3 | D89: ON | E89: OFF | F89: OFF | G89: OFF
A90: 3 | B90: =$S$85 -> TEMPORISATION DECLENCHEMENT | C90: =E85 -> 0.6 | D90: OFF | E90: ON | F90: OFF | G90: OFF | S90: Valeur seuil du niveau courant-temps
A91: 4 | B91: =$S$85 -> TEMPORISATION DECLENCHEMENT | C91: =F85 -> 1 | D91: ON | E91: ON | F91: OFF | G91: OFF | S91: indépendant ou valeur démarrage des
A92: 5 | B92: =$S$85 -> TEMPORISATION DECLENCHEMENT | C92: =G85 -> 2 | D92: OFF | E92: OFF | F92: ON | G92: OFF | S92: caractéristiques inverses
A93: 6 | B93: =$S$85 -> TEMPORISATION DECLENCHEMENT | C93: =H85 -> 3 | D93: ON | E93: OFF | F93: ON | G93: OFF
A94: 7 | B94: =$S$85 -> TEMPORISATION DECLENCHEMENT | C94: =I85 -> 4 | D94: OFF | E94: ON | F94: ON | G94: OFF
A95: 8 | B95: =$S$85 -> TEMPORISATION DECLENCHEMENT | C95: =J85 -> 6 | D95: ON | E95: ON | F95: ON | G95: OFF
A96: 9 | B96: =$S$85 -> TEMPORISATION DECLENCHEMENT | C96: =K85 -> 8 | D96: OFF | E96: OFF | F96: OFF | G96: ON
A97: 10 | B97: =$S$85 -> TEMPORISATION DECLENCHEMENT | C97: =L85 -> 10 | D97: ON | E97: OFF | F97: OFF | G97: ON
A98: 11 | B98: =$S$85 -> TEMPORISATION DECLENCHEMENT | C98: =M85 -> 15 | D98: OFF | E98: ON | F98: OFF | G98: ON
A99: 12 | B99: =$S$85 -> TEMPORISATION DECLENCHEMENT | C99: =N85 -> 30 | D99: ON | E99: ON | F99: OFF | G99: ON
A100: 13 | B100: =$S$85 -> TEMPORISATION DECLENCHEMENT | C100: =O85 -> 60 | D100: OFF | E100: OFF | F100: ON | G100: ON
A101: 14 | B101: =$S$85 -> TEMPORISATION DECLENCHEMENT | C101: =P85 -> 120 | D101: ON | E101: OFF | F101: ON | G101: ON
A102: 15 | B102: =$S$85 -> TEMPORISATION DECLENCHEMENT | C102: =Q85 -> 210 | D102: OFF | E102: ON | F102: ON | G102: ON
A103: 16 | B103: =$S$85 -> TEMPORISATION DECLENCHEMENT | C103: =R85 -> 300 | D103: ON | E103: ON | F103: ON | G103: ON
B105: 4 | C105: =VLOOKUP($B$105,$A$88:$H$103,3,FALSE) -> 1 | D105: =VLOOKUP($B$105,$A$88:$H$103,4,FALSE) -> ON | E105: =VLOOKUP($B$105,$A$88:$H$103,5,FALSE) -> ON | F105: =VLOOKUP($B$105,$A$88:$H$103,6,FALSE) -> OFF | G105: =VLOOKUP($B$105,$A$88:$H$103,7,FALSE) -> OFF
B108: SEUIL COURANT COURT CIRCUIT - I>>
C110: 1 | D110: 2 | E110: 3 | F110: 4 | G110: 5
A111: 1 | B111: =CONCATENATE(C111," x Is") -> 1 x Is | C111: 1 | D111: OFF | E111: OFF | F111: OFF | G111: OFF
A112: 2 | B112: =CONCATENATE(C112," x Is") -> 2 x Is | C112: 2 | D112: ON | E112: OFF | F112: OFF | G112: OFF
A113: 3 | B113: =CONCATENATE(C113," x Is") -> 3 x Is | C113: 3 | D113: OFF | E113: ON | F113: OFF | G113: OFF
A114: 4 | B114: =CONCATENATE(C114," x Is") -> 4 x Is | C114: 4 | D114: ON | E114: ON | F114: OFF | G114: OFF
A115: 5 | B115: =CONCATENATE(C115," x Is") -> 5 x Is | C115: 5 | D115: OFF | E115: OFF | F115: ON | G115: OFF
A116: 6 | B116: =CONCATENATE(C116," x Is") -> 6 x Is | C116: 6 | D116: ON | E116: OFF | F116: ON | G116: OFF
A117: 7 | B117: =CONCATENATE(C117," x Is") -> 7 x Is | C117: 7 | D117: OFF | E117: ON | F117: ON | G117: OFF
A118: 8 | B118: =CONCATENATE(C118," x Is") -> 8 x Is | C118: 8 | D118: ON | E118: ON | F118: ON | G118: OFF
A119: 9 | B119: =CONCATENATE(C119," x Is") -> 9 x Is | C119: 9 | D119: OFF | E119: OFF | F119: OFF | G119: ON
A120: 10 | B120: =CONCATENATE(C120," x Is") -> 10 x Is | C120: 10 | D120: ON | E120: OFF | F120: OFF | G120: ON
A121: 11 | B121: =CONCATENATE(C121," x Is") -> 12 x Is | C121: 12 | D121: OFF | E121: ON | F121: OFF | G121: ON
A122: 12 | B122: =CONCATENATE(C122," x Is") -> 14 x Is | C122: 14 | D122: ON | E122: ON | F122: OFF | G122: ON
... A125: 15 | B125: =CONCATENATE(C125," x Is") -> 20 x Is | C125: 20 | D125: OFF | E125: ON | F125: ON | G125: ON
A126: 16 | B126: =CONCATENATE(C126," x Is") -> EXIT x Is | C126: EXIT | D126: ON | E126: ON | F126: ON | G126: ON
B128: 4 | C128: =VLOOKUP($B$128,$A$111:$H$126,3,FALSE) -> 4 | D128: =VLOOKUP($B$128,$A$111:$H$126,4,FALSE) -> ON | E128: =VLOOKUP($B$128,$A$111:$H$126,5,FALSE) -> ON | F128: =VLOOKUP($B$128,$A$111:$H$126,6,FALSE) -> OFF | G128: =VLOOKUP($B$128,$A$111:$H$126,7,FALSE) -> OFF | H128: =C128*$G$40 -> 224
B130: tI>>: Temporisation déclenchement du niveau court-circuit
C132: 1 | D132: 2 | E132: 3 | F132: 4 | G132: 5
A133: 1 | B133: Temporisation déclenchement Icc | C133: 0.04 | D133: OFF | E133: OFF | F133: OFF | G133: OFF
A134: 2 | B134: Temporisation déclenchement Icc | C134: 0.07 | D134: ON | E134: OFF | F134: OFF | G134: OFF
A135: 3 | B135: Temporisation déclenchement Icc | C135: 0.1 | D135: OFF | E135: ON | F135: OFF | G135: OFF
A136: 4 | B136: Temporisation déclenchement Icc | C136: 0.15 | D136: ON | E136: ON | F136: OFF | G136: OFF
A137: 5 | B137: Temporisation déclenchement Icc | C137: 0.2 | D137: OFF | E137: OFF | F137: ON | G137: OFF
A138: 6 | B138: Temporisation déclenchement Icc | C138: 0.25 | D138: ON | E138: OFF | F138: ON | G138: OFF
...

Sheet DONNNEES PROJET

Sheet REGLAGE
C1: PROJET
C2: SOUS STATION | D2: BUTEMBO
C4: NOM TABLEAU | D4: XIRIA 15 KV
C6: NOM ARRIVEE / DEPART | D6: FEEDER 1 - ISALE
C8: REF EATON | D8: - | F8: DATE | G8: 45131
C9: DONNEES ELECTRIQUES RESEAU / TABLEAU
C11: RESEAU | E11: TENSION RESEAU [ V] | F11: 15000 | G11: V
C13: TENSION ISOLEMENT XIRIA [k V] | E13: CALIBRE DISJONCTEUR [A]
C15: PUISSANCE CONTRACTUELLE [KVA] | F15: 1500 | G15: K VA
C17: COURANT NOMINAL | F17: =F15/((F11/1000)*(1.73)) -> 57.803468 | G17: A
C19: RELAIS DE PROTECTION / TC PROTECTION
C21: CHOIX DES TI PROTECTION | G21: ='CHAMPS RELAIS'!$S$16 -> 32 A - 112 A
C23: COURANT DE REFERENCE | D23: IS | G23: =CONCATENATE("Is =",'CHAMPS RELAIS'!G40," A ") -> Is =56 A
C25: COURBE DECLENCHEMENT | G25: ='CHAMPS RELAIS'!$C$54 -> DEF
C27: ='CHAMPS RELAIS'!W85 -> SEUIL SURCHARGE POUR DEF | D27: I> | G27: =CONCATENATE("I> =",'CHAMPS RELAIS'!H76," A ") -> I> =61,6 A
C29: ='CHAMPS RELAIS'!$B$88 -> TEMPORISATION DECLENCHEMENT | D29: tI> | G29: =CONCATENATE('CHAMPS RELAIS'!T85," = ",'CHAMPS RELAIS'!C105, " ", 'CHAMPS RELAIS'!U85) -> t > = 1 sec
C31: SEUIL NIVEAU COURANT COURT CIRCUIT | D31: I>> | G31: =CONCATENATE("I>> =",'CHAMPS RELAIS'!H128," A") -> I>> =224 A
C33: TEMPORISATION COURANT COURT CIRCUIT | D33: tI>> | G33: =CONCATENATE("t I>>= ",'CHAMPS RELAIS'!C150,"sec") -> t I>>= 0,1sec
C35: DEFAUT TERRE | D35: IE> | G35: =CONCATENATE("IE> = ",'CHAMPS RELAIS'!H184," A ") -> #VALUE!
C37: TEMPORISATION DEFAUT TERRE | D37: tIE> | G37: =CONCATENATE("t IE> = ",'CHAMPS RELAIS'!H207," sec") -> #VALUE!

Sheet RAPPORT
F2: EDBS - ELECTRICAL DISTRIBUTION BOARD SERVICES S.A
F3: Avenue de la Gare 4A, LU-9540 Wiltz - Luxembourg (Grand-Duché de)
F4: Contact: Huygens Stéphane - GSM : 0032 475 51 72 65
F5: Mail: stephanehuygens@edbs.lu
B7: Valeurs préconisées de paramétrage relais de protection (*1) - relais wic - XIRIA
B8: Courbe à temps indépendant (*3)
B9: DONNEES DE BASE
B10: Projet: | E10: =REGLAGE!$D$2 -> BUTEMBO
B11: Tableau: | E11: =REGLAGE!$D$4 -> XIRIA 15 KV
B12: Départ: | E12: =REGLAGE!$D$6 -> FEEDER 1 - ISALE
B13: Ref Eaton: | E13: =REGLAGE!$D$8 -> - | G13: Date: | H13: =REGLAGE!$G$8 -> 45131
B15: DONNEES ELECTRIQUES | F15: Réseau | G15: =VLOOKUP('CHAMPS DATA'!B28,'CHAMPS DATA'!B19:K27,3,FALSE) -> RESEAU
F16: Tension Nominale | G16: =REGLAGE!$F$11/1000 -> 15 | H16: k V
F17: Puissance contractuelle | G17: =REGLAGE!$F$15 -> 1500 | H17: K VA
F18: Courant Assigné | G18: =REGLAGE!$F$17 -> 57.803468 | H18: A
F19: Calibre disjoncteur | G19: =VLOOKUP('CHAMPS DATA'!D34,'CHAMPS DATA'!D29:I32,2,FALSE) -> 200 | H19: A
F20: Type TC de protection | G20: =VLOOKUP('CHAMPS RELAIS'!$B$16,'CHAMPS RELAIS'!$A$11:$S$16,2,FALSE) -> WIC1-W3 | H20: =CONCATENATE("(",REGLAGE!G21,")") -> (32 A - 112 A)
E23: IS | F23: =CONCATENATE('CHAMPS RELAIS'!G40," A") -> 56 A | G23: DIP 1-1 | H23: ='CHAMPS RELAIS'!$C$40 -> OFF
G24: DIP 1-2 | H24: ='CHAMPS RELAIS'!$D$40 -> ON
G25: DIP 1-3 | H25: ='CHAMPS RELAIS'!$E$40 -> ON
G26: DIP 1-4 | H26: ='CHAMPS RELAIS'!$F$40 -> OFF
F27: ='CHAMPS RELAIS'!$C$54 -> DEF | G27: DIP 1-5 | H27: ='CHAMPS RELAIS'!$D$54 -> OFF
G28: DIP 1-6 | H28: ='CHAMPS RELAIS'!$E$54 -> OFF
G29: DIP 1-7 | H29: ='CHAMPS RELAIS'!$F$54 -> OFF
G30: DIP 1-8 | H30: ='CHAMPS RELAIS'!$G$54 -> OFF
E34: I> | F34: =CONCATENATE('CHAMPS RELAIS'!H76," A") -> 61,6 A | G34: DIP 2-1 | H34: ='CHAMPS RELAIS'!$D$76 -> OFF
G35: DIP 2-2 | H35: ='CHAMPS RELAIS'!$E$76 -> OFF
G36: DIP 2-3 | H36: ='CHAMPS RELAIS'!$F$76 -> ON
G37: DIP 2-4 | H37: ='CHAMPS RELAIS'!$G$76 -> OFF
E38: tI> | F38: =CONCATENATE('CHAMPS RELAIS'!C105," S") -> 1 S | G38: DIP 2-5 | H38: ='CHAMPS RELAIS'!$D$105 -> ON
G39: DIP 2-6 | H39: ='CHAMPS RELAIS'!$E$105 -> ON | J39: (*2)
G40: DIP 2-7 | H40: ='CHAMPS RELAIS'!$F$105 -> OFF
G41: DIP 2-8 | H41: ='CHAMPS RELAIS'!$G$105 -> OFF
E45: I>> | F45: =CONCATENATE('CHAMPS RELAIS'!H128," A") -> 224 A | G45: DIP 3-1 | H45: ='CHAMPS RELAIS'!$D$128 -> ON
G46: DIP 3-2 | H46: ='CHAMPS RELAIS'!$E$128 -> ON
G47: DIP 3-3 | H47: ='CHAMPS RELAIS'!$F$128 -> OFF
G48: DIP 3-4 | H48: ='CHAMPS RELAIS'!$G$128 -> OFF
E49: tI>> | F49: =CONCATENATE('CHAMPS RELAIS'!C150," S") -> 0,1 S | G49: DIP 3-5 | H49: ='CHAMPS RELAIS'!$D$150 -> OFF
G50: DIP 3-6 | H50: ='CHAMPS RELAIS'!$E$150 -> ON
G51: DIP 3-7 | H51: ='CHAMPS RELAIS'!$F$150 -> OFF
G52: DIP 3-8 | H52: ='CHAMPS RELAIS'!$G$150 -> OFF
E56: IE> | F56: =CONCATENATE('CHAMPS RELAIS'!H184," A") -> #VALUE! | G56: DIP 4-1 | H56: ='CHAMPS RELAIS'!$D$184 -> ON
G57: DIP 4-2 | H57: ='CHAMPS RELAIS'!$E$184 -> ON
G58: DIP 4-3 | H58: ='CHAMPS RELAIS'!$F$184 -> ON
G59: DIP 4-4 | H59: ='CHAMPS RELAIS'!$G$184 -> ON
E60: tIE> | F60: =CONCATENATE('CHAMPS RELAIS'!H207," S") -> #VALUE! | G60: DIP 4-5 | H60: ='CHAMPS RELAIS'!$D$207 -> OFF
G61: DIP 4-6 | H61: ='CHAMPS RELAIS'!$E$207 -> OFF
G62: DIP 4-7 | H62: ='CHAMPS RELAIS'!$F$207 -> OFF
G63: DIP 4-8 | H63: ='CHAMPS RELAIS'!$G$207 -> OFF
B66: (*1) | C66: Ces valeurs de paramétrage sont à adapter suivant les contraintes électriques locales, tenant compte
C67: des impositions du distributeur d'énergie, de la puissance contractuelle, des caractéristiques des
C68: équipements à protéger, des valeurs de paramétrage des relais de protection amont / aval
B69: (*2 | C69: Les temps sont valable pour WIC1-2/3 à partir de version G0009
C71: Complement informations : Voir Manuel relais de protection WIC1-CT
B72: Back-up → | C72: Raccordement préconisé: Entrée de déclenchement extérieur 230 V / 115 V - A raccorder
B74: (*3) | C74: Autre courbes possibles (inverse, … voir manuel WIC

Sheet CHAMPS DATA
B5: 1 | C5: Ur = 24 k V | D5: Uw = 125 k V | E5: Up = 50 k V | F5: fr = 50 Hz | G5: Ir = 630 A | H5: Ik = 16 k A | I5: Ip = 40 k A | J5: tk = 1 s
B6: 2 | C6: Ur = 17,5 k V | D6: Uw = 95 k V | E6: Up = 38 k V | F6: fr = 50 Hz | G6: Ir = 630 A | H6: Ik = 16 k A | I6: Ip = 40 k A | J6: tk = 1 s
B7: 3 | C7: Ur = 12 k V | D7: Uw = 75 k V | E7: Up = 28 k V | F7: fr = 50 Hz | G7: Ir = 630 A | H7: Ik = 20 k A | I7: Ip = 50 k A | J7: tk = 1 s
B8: 4 | C8: Ur = 7,2 k V | D8: Uw = 60 k V | E8: Up = 20 k V | F8: fr = 50 Hz | G8: Ir = 630 A | H8: Ik = 20 k A | I8: Ip = 50 k A | J8: tk = 1 s
B9: 1
B19: 1 | C19: Réseau | D19: RESEAU
B20: 2 | D20: ECG
B21: 3 | D21: EDC
B22: 4 | D22: REGIDESO
B23: 5 | D23: SBEE
B24: 6 | D24: SIBELGA
B25: 7 | D25: SNEL
B26: 8 | D26: SOMELEC
B27: 9 | D27: A définir
B28: 1
C29: Calibre | D29: 1 | E29: 200
D30: 2 | E30: 500
D31: 3
D32: 4
D34: 1
D36: 1
D37: 2
D38: 3
D39: 4

Sheet Feuil5
B2: PROJET
B3: SOUS STATION | J3: PROJET / DESIGN
B4: NOM TABLEAU
B5: NOM ARRIVEE / DEPART | J5: Réseau / Network
J6: Tension Nominal(e) Voltage (Un)
B7: DONNEES ELECTRIQUES | J7: P. Installée / Installed Capacity
B8: TENSION RESEAU | J8: Puissance Contractuelle
B9: TENSION ISOLEMENT
B10: CALIBRE DISJONCTEUR
B11: RESEAU | C11: SNEL
