Workbook
Name RESEAU: 'CHAMPS DATA'!$D$19:$D$27

Sheet CHAMPS RELAIS
B8: CHOIX TC
B10: TC | C10: 1 | D10: 2 | E10: 3 | F10: 4 | G10: 5 | H10: 6 | I10: 7 | J10: 8 | K10: 9 | L10: 10 | M10: 11 | N10: 12 | O10: 13 | P10: 14 | Q10: 15 | R10: 16 | S10: 17
A11: 1 | B11: WIC1-W2 | C11: 16 | D11: 18 | E11: 20 | F11: 22 | G11: 24 | H11: 26 | I11: 28 | J11: 30 | K11: 32 | L11: 34 | M11: 36 | N11: 40 | O11: 44 | P11: 48 | Q11: 52 | R11: 56 | S11: =CONCATENATE(C11," A - ",R11," A") -> 16 A - 56 A
A12: 2 | B12: WIC1-W3 | C12: 32 | D12: 36 | E12: 40 | F12: 44 | G12: 48 | H12: 52 | I12: 56 | J12: 60 | K12: 64 | L12: 68 | M12: 72 | N12: 80 | O12: 88 | P12: 96 | Q12: 104 | R12: 112 | S12: =CONCATENATE(C12," A - ",R12," A") -> 32 A - 112 A
A13: 3 | B13: WIC1-W4 | C13: 64 | D13: 72 | E13: 80 | F13: 88 | G13: 96 | H13: 104 | I13: 112 | J13: 120 | K13: 128 | L13: 136 | M13: 144 | N13: 160 | O13: 176 | P13: 192 | Q13: 208 | R13: 224 | S13: =CONCATENATE(C13," A - ",R13," A") -> 64 A - 224 A
A14: 4 | B14: WIC1-W5 | C14: 128 | D14: 144 | E14: 160 | F14: 176 | G14: 192 | H14: 208 | I14: 224 | J14: 240 | K14: 256 | L14: 272 | M14: 288 | N14: 320 | O14: 352 | P14: 384 | Q14: 416 | R14: 448 | S14: =CONCATENATE(C14," A - ",R14," A") -> 128 A - 448 A
B16: 2 | C16: =VLOOKUP($B$16,$A$11:$R$14,3,FALSE) -> 32 | D16: =VLOOKUP($B$16,$A$11:$R$14,4,FALSE) -> 36 | E16: =VLOOKUP($B$16,$A$11:$R$14,5,FALSE) -> 40 | F16: =VLOOKUP($B$16,$A$11:$R$14,6,FALSE) -> 44 | G16: =VLOOKUP($B$16,$A$11:$R$14,7,FALSE) -> 48 | H16: =VLOOKUP($B$16,$A$11:$R$14,8,FALSE) -> 52 | I16: =VLOOKUP($B$16,$A$11:$R$14,9,FALSE) -> 56 | J16: =VLOOKUP($B$16,$A$11:$R$14,10,FALSE) -> 60 | K16: =VLOOKUP($B$16,$A$11:$R$14,11,FALSE) -> 64 | L16: =VLOOKUP($B$16,$A$11:$R$14,12,FALSE) -> 68 | M16: =VLOOKUP($B$16,$A$11:$R$14,13,FALSE) -> 72 | N16: =VLOOKUP($B$16,$A$11:$R$14,14,FALSE) -> 80 | O16: =VLOOKUP($B$16,$A$11:$R$14,15,FALSE) -> 88 | P16: =VLOOKUP($B$16,$A$11:$R$14,16,FALSE) -> 96 | Q16: =VLOOKUP($B$16,$A$11:$R$14,17,FALSE) -> 104 | R16: =VLOOKUP($B$16,$A$11:$R$14,18,FALSE) -> 112 | S16: =VLOOKUP($B$16,$A$11:$S$14,19,FALSE) -> 32 A - 112 A
B20: CHOIX IR
B22: Ir | C22: 1 | D22: 2 | E22: 3 | F22: 4
A23: 1 | B23: =C16 -> 32 | C23: OFF | D23: OFF | E23: OFF | F23: OFF | G23: =B23 -> 32
A24: 2 | B24: =D16 -> 36 | C24: ON | D24: OFF | E24: OFF | F24: OFF | G24: =B24 -> 36
A25: 3 | B25: =E16 -> 40 | C25: OFF | D25: ON | E25: OFF | F25: OFF | G25: =B25 -> 40
A26: 4 | B26: =F16 -> 44 | C26: ON | D26: ON | E26: OFF | F26: OFF | G26: =B26 -> 44
A27: 5 | B27: =G16 -> 48 | C27: OFF | D27: OFF | E27: ON | F27: OFF | G27: =B27 -> 48
A28: 6 | B28: =H16 -> 52 | C28: ON | D28: OFF | E28: ON | F28: OFF | G28: =B28 -> 52
A29: 7 | B29: =I16 -> 56 | C29: OFF | D29: ON | E29: ON | F29: OFF | G29: =B29 -> 56
A30: 8 | B30: =J16 -> 60 | C30: ON | D30: ON | E30: ON | F30: OFF | G30: =B30 -> 60
A31: 9 | B31: =K16 -> 64 | C31: OFF | D31: OFF | E31: OFF | F31: ON | G31: =B31 -> 64
A32: 10 | B32: =L16 -> 68 | C32: ON | D32: OFF | E32: OFF | F32: ON | G32: =B32 -> 68
A33: 11 | B33: =M16 -> 72 | C33: OFF | D33: ON | E33: OFF | F33: ON | G33: =B33 -> 72
A34: 12 | B34: =N16 -> 80 | C34: ON | D34: ON | E34: OFF | F34: ON | G34: =B34 -> 80
A35: 13 | B35: =O16 -> 88 | C35: OFF | D35: OFF | E35: ON | F35: ON | G35: =B35 -> 88
A36: 14 | B36: =P16 -> 96 | C36: ON | D36: OFF | E36: ON | F36: ON | G36: =B36 -> 96
A37: 15 | B37: =Q16 -> 104 | C37: OFF | D37: ON | E37: ON | F37: ON | G37: =B37 -> 104
A38: 16 | B38: =R16 -> 112 | C38: ON | D38: ON | E38: ON | F38: ON | G38: =B38 -> 112
B40: 7 | C40: =VLOOKUP($B$40,$A$23:$F$38,3,FALSE) -> OFF | D40: =VLOOKUP($B$40,$A$23:$F$38,4,FALSE) -> ON | E40: =VLOOKUP($B$40,$A$23:$F$38,5,FALSE) -> ON | F40: =VLOOKUP($B$40,$A$23:$F$38,6,FALSE) -> OFF | G40: =VLOOKUP($B$40,$A$23:$G$38,7,FALSE) -> 56
B43: CHOIX COURBE
A45: 1 | B45: Temps Défini | C45: DEF | D45: OFF | E45: OFF | F45: OFF | G45: OFF | H45: 1
A46: 2 | B46: Normal Inverse | C46: N-INV | D46: ON | E46: OFF | F46: OFF | G46: OFF | H46: 2
A47: 3 | B47: Très Inverse | C47: V-INV | D47: OFF | E47: ON | F47: OFF | G47: OFF | H47: 2
A48: 4 | B48: Extrêmement Inverse | C48: E-INV | D48: ON | E48: ON | F48: OFF | G48: OFF | H48: 2
A49: 5 | B49: Long Inverse | C49: LI-INV | D49: OFF | E49: OFF | F49: ON | G49: OFF | H49: 2
A50: 6 | B50: RI - Inverse | C50: RI-INV | D50: ON | E50: OFF | F50: ON | G50: OFF | H50: 2
A51: 7 | B51: Caractéristiques fusible HT | C51: HV-Fuse | D51: OFF | E51: ON | F51: ON | G51: OFF | H51: 2
A52: 8 | B52: Caractéristique fusible gamme complète | C52: FR-Fuse | D52: OFF | E52: ON | F52: ON | G52: ON | H52: 2
B54: 1 | C54: =VLOOKUP($B$54,$A$45:$G$52,3,FALSE) -> DEF | D54: =VLOOKUP($B$54,$A$45:$G$52,4,FALSE) -> OFF | E54: =VLOOKUP($B$54,$A$45:$G$52,5,FALSE) -> OFF | F54: =VLOOKUP($B$54,$A$45:$G$52,6,FALSE) -> OFF | G54: =VLOOKUP($B$54,$A$45:$G$52,7,FALSE) -> OFF | H54: =VLOOKUP($B$54,$A$45:$H$52,8,FALSE) -> 1
B57: COURANT DECLENCHEMENT THERMIQUE I>
A59: 1 | B59: =CONCATENATE(C59," x Is") -> 0,9 x Is | C59: 0.9 | D59: OFF | E59: OFF | F59: OFF | G59: OFF
A60: 2 | B60: =CONCATENATE(C60," x Is") -> 0,95 x Is | C60: 0.95 | D60: ON | E60: OFF | F60: OFF | G60: OFF
A61: 3 | B61: =CONCATENATE(C61," x Is") -> 1 x Is | C61: 1 | D61: OFF | E61: ON | F61: OFF | G61: OFF
...

Sheet DONNNEES PROJET

Sheet REGLAGE
C1: PROJET
C2: SOUS STATION | D2: BUTEMBO
C4: NOM TABLEAU | D4: XIRIA 15 KV
C6: NOM ARRIVEE / DEPART | D6: FEEDER 1 - ISALE
C8: REF EATON | D8: - | F8: DATE | G8: 45131
C9: DONNEES ELECTRIQUES RESEAU / TABLEAU
C11: RESEAU | E11: TENSION RESEAU [ V] | F11: 15000 | G11: V
C13: TENSION ISOLEMENT XIRIA [k V] | E13: CALIBRE DISJONCTEUR [A]
C15: PUISSANCE CONTRACTUELLE [KVA] | F15: 1500 | G15: K VA
C17: COURANT NOMINAL | F17: =F15/((F11/1000)*(1.73)) -> 57.803468 | G17: A
C19: RELAIS DE PROTECTION / TC PROTECTION
C21: CHOIX DES TI PROTECTION | G21: ='CHAMPS RELAIS'!$S$16 -> 32 A - 112 A
C23: COURANT DE REFERENCE | D23: IS | G23: =CONCATENATE("Is =",'CHAMPS RELAIS'!G40," A ") -> Is =56 A
C25: COURBE DECLENCHEMENT | G25: ='CHAMPS RELAIS'!$C$54 -> DEF
C27: ='CHAMPS RELAIS'!W85 -> SEUIL SURCHARGE POUR DEF | D27: I> | G27: =CONCATENATE("I> =",'CHAMPS RELAIS'!H76," A ") -> I> =61,6 A
C29: ='CHAMPS RELAIS'!$B$88 -> TEMPORISATION DECLENCHEMENT | D29: tI> | G29: =CONCATENATE('CHAMPS RELAIS'!T85," = ",'CHAMPS RELAIS'!C105, " ", 'CHAMPS RELAIS'!U85) -> t > = 1 sec
C31: SEUIL NIVEAU COURANT COURT CIRCUIT | D31: I>> | G31: =CONCATENATE("I>> =",'CHAMPS RELAIS'!H128," A") -> I>> =224 A
C33: TEMPORISATION COURANT COURT CIRCUIT | D33: tI>> | G33: =CONCATENATE("t I>>= ",'CHAMPS RELAIS'!C150,"sec") -> t I>>= 0,1sec
C35: DEFAUT TERRE | D35: IE> | G35: =CONCATENATE("IE> = ",'CHAMPS RELAIS'!H184," A ") -> #VALUE!
C37: TEMPORISATION DEFAUT TERRE | D37: tIE> | G37: =CONCATENATE("t IE> = ",'CHAMPS RELAIS'!H207," sec") -> #VALUE!

Sheet RAPPORT
F2: EDBS - ELECTRICAL DISTRIBUTION BOARD SERVICES S.A
F3: Avenue de la Gare 4A, LU-9540 Wiltz - Luxembourg (Grand-Duché de)
F4: Contact: Huygens Stéphane - GSM : 0032 475 51 72 65
F5: Mail: stephanehuygens@edbs.lu
B7: Valeurs préconisées de paramétrage relais de protection (*1) - relais wic - XIRIA
B8: Courbe à temps indépendant (*3)
B9: DONNEES DE BASE
B10: Projet: | E10: =REGLAGE!$D$2 -> BUTEMBO
B11: Tableau: | E11: =REGLAGE!$D$4 -> XIRIA 15 KV
B12: Départ: | E12: =REGLAGE!$D$6 -> FEEDER 1 - ISALE
B13: Ref Eaton: | E13: =REGLAGE!$D$8 -> - | G13: Date: | H13: =REGLAGE!$G$8 -> 45131
B15: DONNEES ELECTRIQUES | F15: Réseau | G15: =VLOOKUP('CHAMPS DATA'!B28,'CHAMPS DATA'!B19:K27,3,FALSE) -> RESEAU
F16: Tension Nominale | G16: =REGLAGE!$F$11/1000 -> 15 | H16: k V
F17: Puissance contractuelle | G17: =REGLAGE!$F$15 -> 1500 | H17: K VA
F18: Courant Assigné | G18: =REGLAGE!$F$17 -> 57.803468 | H18: A
F19: Calibre disjoncteur | G19: =VLOOKUP('CHAMPS DATA'!D34,'CHAMPS DATA'!D29:I32,2,FALSE) -> 200 | H19: A
F20: Type TC de protection | G20: =VLOOKUP('CHAMPS RELAIS'!$B$16,'CHAMPS RELAIS'!$A$11:$S$16,2,FALSE) -> WIC1-W3 | H20: =CONCATENATE("(",REGLAGE!G21,")") -> (32 A - 112 A)
E23: IS | F23: =CONCATENATE('CHAMPS RELAIS'!G40," A") -> 56 A | G23: DIP 1-1 | H23: ='CHAMPS RELAIS'!$C$40 -> OFF
G24: DIP 1-2 | H24: ='CHAMPS RELAIS'!$D$40 -> ON
G25: DIP 1-3 | H25: ='CHAMPS RELAIS'!$E$40 -> ON
G26: DIP 1-4 | H26: ='CHAMPS RELAIS'!$F$40 -> OFF
F27: ='CHAMPS RELAIS'!$C$54 -> DEF | G27: DIP 1-5 | H27: ='CHAMPS RELAIS'!$D$54 -> OFF
G28: DIP 1-6 | H28: ='CHAMPS RELAIS'!$E$54 -> OFF
G29: DIP 1-7 | H29: ='CHAMPS RELAIS'!$F$54 -> OFF
G30: DIP 1-8 | H30: ='CHAMPS RELAIS'!$G$54 -> OFF
E34: I> | F34: =CONCATENATE('CHAMPS RELAIS'!H76," A") -> 61,6 A | G34: DIP 2-1 | H34: ='CHAMPS RELAIS'!$D$76 -> OFF
G35: DIP 2-2 | H35: ='CHAMPS RELAIS'!$E$76 -> OFF
G36: DIP 2-3 | H36: ='CHAMPS RELAIS'!$F$76 -> ON
G37: DIP 2-4 | H37: ='CHAMPS RELAIS'!$G$76 -> OFF
E38: tI> | F38: =CONCATENATE('CHAMPS RELAIS'!C105," S") -> 1 S | G38: DIP 2-5 | H38: ='CHAMPS RELAIS'!$D$105 -> ON
G39: DIP 2-6 | H39: ='CHAMPS RELAIS'!$E$105 -> ON | J39: (*2)
G40: DIP 2-7 | H40: ='CHAMPS RELAIS'!$F$105 -> OFF
G41: DIP 2-8 | H41: ='CHAMPS RELAIS'!$G$105 -> OFF
E45: I>> | F45: =CONCATENATE('CHAMPS RELAIS'!H128," A") -> 224 A | G45: DIP 3-1 | H45: ='CHAMPS RELAIS'!$D$128 -> ON
G46: DIP 3-2 | H46: ='CHAMPS RELAIS'!$E$128 -> ON
G47: DIP 3-3 | H47: ='CHAMPS RELAIS'!$F$128 -> OFF
G48: DIP 3-4 | H48: ='CHAMPS RELAIS'!$G$128 -> OFF
E49: tI>> | F49: =CONCATENATE('CHAMPS RELAIS'!C150," S") -> 0,1 S | G49: DIP 3-5 | H49: ='CHAMPS RELAIS'!$D$150 -> OFF
G50: DIP 3-6 | H50: ='CHAMPS RELAIS'!$E$150 -> ON
G51: DIP 3-7 | H51: ='CHAMPS RELAIS'!$F$150 -> OFF
...

Sheet CHAMPS DATA
B5: 1 | C5: Ur = 24 k V | D5: Uw = 125 k V | E5: Up = 50 k V | F5: fr = 50 Hz | G5: Ir = 630 A | H5: Ik = 16 k A | I5: Ip = 40 k A | J5: tk = 1 s
B6: 2 | C6: Ur = 17,5 k V | D6: Uw = 95 k V | E6: Up = 38 k V | F6: fr = 50 Hz | G6: Ir = 630 A | H6: Ik = 16 k A | I6: Ip = 40 k A | J6: tk = 1 s
B7: 3 | C7: Ur = 12 k V | D7: Uw = 75 k V | E7: Up = 28 k V | F7: fr = 50 Hz | G7: Ir = 630 A | H7: Ik = 20 k A | I7: Ip = 50 k A | J7: tk = 1 s
B8: 4 | C8: Ur = 7,2 k V | D8: Uw = 60 k V | E8: Up = 20 k V | F8: fr = 50 Hz | G8: Ir = 630 A | H8: Ik = 20 k A | I8: Ip = 50 k A | J8: tk = 1 s
B9: 1
B19: 1 | C19: Réseau | D19: RESEAU
B20: 2 | D20: ECG
B21: 3 | D21: EDC
B22: 4 | D22: REGIDESO
B23: 5 | D23: SBEE
B24: 6 | D24: SIBELGA
B25: 7 | D25: SNEL
B26: 8 | D26: SOMELEC
B27: 9 | D27: A définir
B28: 1
C29: Calibre | D29: 1 | E29: 200
D30: 2 | E30: 500
D31: 3
D32: 4
D34: 1
D36: 1
D37: 2
D38: 3
D39: 4

Sheet Feuil5
B2: PROJET
B3: SOUS STATION | J3: PROJET / DESIGN
B4: NOM TABLEAU
B5: NOM ARRIVEE / DEPART | J5: Réseau / Network
J6: Tension Nominal(e) Voltage (Un)
B7: DONNEES ELECTRIQUES | J7: P. Installée / Installed Capacity
B8: TENSION RESEAU | J8: Puissance Contractuelle
B9: TENSION ISOLEMENT
B10: CALIBRE DISJONCTEUR
B11: RESEAU | C11: SNEL
